BEGIN:VCALENDAR
VERSION:2.0
PRODID:-//山口の子連れイベントカレンダー - ECPv6.15.20//NONSGML v1.0//EN
CALSCALE:GREGORIAN
METHOD:PUBLISH
X-WR-CALNAME:山口の子連れイベントカレンダー
X-ORIGINAL-URL:https://www.ymgc-event.com
X-WR-CALDESC:山口の子連れイベントカレンダー のイベント
REFRESH-INTERVAL;VALUE=DURATION:PT1H
X-Robots-Tag:noindex
X-PUBLISHED-TTL:PT1H
BEGIN:VTIMEZONE
TZID:Asia/Tokyo
BEGIN:STANDARD
TZOFFSETFROM:+0900
TZOFFSETTO:+0900
TZNAME:JST
DTSTART:20250101T000000
END:STANDARD
END:VTIMEZONE
BEGIN:VEVENT
DTSTART;TZID=Asia/Tokyo:20260418T090000
DTEND;TZID=Asia/Tokyo:20260506T170000
DTSTAMP:20260425T082950
CREATED:20260424T141036Z
LAST-MODIFIED:20260424T141036Z
UID:52-1776502800-1778086800@www.ymgc-event.com
SUMMARY:防府天満宮 大石段花回廊
DESCRIPTION:
URL:https://www.ymgc-event.com/event/%e9%98%b2%e5%ba%9c%e5%a4%a9%e6%ba%80%e5%ae%ae-%e5%a4%a7%e7%9f%b3%e6%ae%b5%e8%8a%b1%e5%9b%9e%e5%bb%8a/
END:VEVENT
BEGIN:VEVENT
DTSTART;TZID=Asia/Tokyo:20260425T100000
DTEND;TZID=Asia/Tokyo:20260425T160000
DTSTAMP:20260425T082950
CREATED:20260424T141036Z
LAST-MODIFIED:20260424T141036Z
UID:53-1777111200-1777132800@www.ymgc-event.com
SUMMARY:Mine秋吉台ユネスコ世界ジオパーク認定記念イベント
DESCRIPTION:
URL:https://www.ymgc-event.com/event/mine%e7%a7%8b%e5%90%89%e5%8f%b0%e3%83%a6%e3%83%8d%e3%82%b9%e3%82%b3%e4%b8%96%e7%95%8c%e3%82%b8%e3%82%aa%e3%83%91%e3%83%bc%e3%82%af%e8%aa%8d%e5%ae%9a%e8%a8%98%e5%bf%b5%e3%82%a4%e3%83%99%e3%83%b3/
END:VEVENT
BEGIN:VEVENT
DTSTART;TZID=Asia/Tokyo:20260429T090000
DTEND;TZID=Asia/Tokyo:20260429T160000
DTSTAMP:20260425T082950
CREATED:20260424T141037Z
LAST-MODIFIED:20260424T141037Z
UID:54-1777453200-1777478400@www.ymgc-event.com
SUMMARY:錦帯橋まつり
DESCRIPTION:
URL:https://www.ymgc-event.com/event/%e9%8c%a6%e5%b8%af%e6%a9%8b%e3%81%be%e3%81%a4%e3%82%8a/
END:VEVENT
BEGIN:VEVENT
DTSTART;TZID=Asia/Tokyo:20260429T100000
DTEND;TZID=Asia/Tokyo:20260429T150000
DTSTAMP:20260425T082950
CREATED:20260424T141037Z
LAST-MODIFIED:20260424T141037Z
UID:55-1777456800-1777474800@www.ymgc-event.com
SUMMARY:春の幸せますフェスタ
DESCRIPTION:
URL:https://www.ymgc-event.com/event/%e6%98%a5%e3%81%ae%e5%b9%b8%e3%81%9b%e3%81%be%e3%81%99%e3%83%95%e3%82%a7%e3%82%b9%e3%82%bf/
END:VEVENT
BEGIN:VEVENT
DTSTART;TZID=Asia/Tokyo:20260502T090000
DTEND;TZID=Asia/Tokyo:20260503T160000
DTSTAMP:20260425T082950
CREATED:20260424T141037Z
LAST-MODIFIED:20260424T141037Z
UID:56-1777712400-1777824000@www.ymgc-event.com
SUMMARY:第41回 つつじ・ゆめ風車まつり
DESCRIPTION:
URL:https://www.ymgc-event.com/event/%e7%ac%ac41%e5%9b%9e-%e3%81%a4%e3%81%a4%e3%81%98%e3%83%bb%e3%82%86%e3%82%81%e9%a2%a8%e8%bb%8a%e3%81%be%e3%81%a4%e3%82%8a/
END:VEVENT
BEGIN:VEVENT
DTSTART;TZID=Asia/Tokyo:20260503T083000
DTEND;TZID=Asia/Tokyo:20260503T160000
DTSTAMP:20260425T082950
CREATED:20260424T125755Z
LAST-MODIFIED:20260424T125756Z
UID:14-1777797000-1777824000@www.ymgc-event.com
SUMMARY:佐波川こいながし
DESCRIPTION:
URL:https://www.ymgc-event.com/event/%e4%bd%90%e6%b3%a2%e5%b7%9d%e3%81%93%e3%81%84%e3%81%aa%e3%81%8c%e3%81%97/
LOCATION:佐波川奈美中央橋\, 山口県防府市大字奈美中央橋付近\, 747-0106
ORGANIZER;CN="%E4%BD%90%E6%B3%A2%E5%B7%9D%E3%81%93%E3%81%84%E3%81%AA%E3%81%8C%E3%81%97%E5%AE%9F%E8%A1%8C%E5%A7%94%E5%93%A1%E4%BC%9A":MAILTO:koinagashi@gmail.com
END:VEVENT
END:VCALENDAR